BEGIN:VCALENDAR
VERSION:2.0
PRODID:-//Tukios.com/
BEGIN:VEVENT
UID:b64ed70d-68c1-4e32-b32e-86ac16c5afef@www.aefuneralservices.com
DTSTAMP:20260423T230418Z
DTSTART:20260429T180000Z
DTEND:20260429T190000Z
SUMMARY:Memorial Service
DESCRIPTION:
URL:https://www.aefuneralservices.com/obituaries/sammy-brake-sr
LOCATION: 603 W. Independance Street  Shawnee OK 74804
GEO:35.3467368;-96.9329481
END:VEVENT
END:VCALENDAR